BEGIN:VCALENDAR
VERSION:2.0
PRODID:-//wp-events-plugin.com//7.2.3//EN
TZID:Europe/Madrid
X-WR-TIMEZONE:Europe/Madrid
BEGIN:VEVENT
UID:494@elshostaletsdepierola.cat
DTSTART:20180406T120000Z
DTEND:20180406T133000Z
DTSTAMP:20180319T113100Z
URL:https://elshostaletsdepierola.cat/events/caminada-activitat-fisica-cap
 /
SUMMARY:6 abril. Caminada CAP Piera. Dia mundial activitat física
DESCRIPTION:
ATTACH;FMTTYPE=image/jpeg:https://elshostaletsdepierola.cat/wp-content/upl
 oads/2018/03/activitat-fisica-6-abril.png
CATEGORIES:Esdeveniments,Esport
LOCATION:CAP Piera\, Avinguda de la Carretera d'Igualada\, 62\, Piera\, Bar
 celona\, 08784\, Espanya
GEO:41.52499;1.750120000000038
X-APPLE-STRUCTURED-LOCATION;VALUE=URI;X-ADDRESS=Avinguda de la Carretera d'
 Igualada\, 62\, Piera\, Barcelona\, 08784\, Espanya;X-APPLE-RADIUS=100;X-T
 ITLE=CAP Piera:geo:41.52499,1.750120000000038
END:VEVENT
END:VCALENDAR