BEGIN:VCALENDAR
VERSION:2.0
PRODID:-//wp-events-plugin.com//7.2.3//EN
TZID:Europe/Madrid
X-WR-TIMEZONE:Europe/Madrid
BEGIN:VEVENT
UID:2248@elshostaletsdepierola.cat
DTSTART;TZID=Europe/Madrid:20231024T091500
DTEND;TZID=Europe/Madrid:20231024T111500
DTSTAMP:20231016T140453Z
URL:https://elshostaletsdepierola.cat/events/caminada-commemorativa-del-di
 a-mundial-de-conscienciacio-sobre-laturada-cardiaca/
SUMMARY:Caminada commemorativa del Dia Mundial de conscienciació sobre l'a
 turada cardíaca
DESCRIPTION:El proper dimarts 24 d'octubre\, a les 9:15 hores\, es commemor
 arà el Dia Mundial de conscienciació sobre l'aturada cardíaca amb una c
 aminada popular fins al CAP de Piera. L'activitat anirà a càrrec dels re
 ferents del centre d'atenció primària.\n\nA l'inici de la jornada hi hau
 rà un taller sobre maniobres bàsiques de reanimació cardiopulmonar\, de
  la mà de la infermera Núria Guirado.\n\nPer a més informació i inscri
 pcions adreceu-vos a l'equip de professionals sanitaris de referència
ATTACH;FMTTYPE=image/jpeg:https://elshostaletsdepierola.cat/wp-content/upl
 oads/2023/10/caminada.png
CATEGORIES:Esdeveniments,newsletter,Salut
END:VEVENT
BEGIN:VTIMEZONE
TZID:Europe/Madrid
X-LIC-LOCATION:Europe/Madrid
BEGIN:DAYLIGHT
DTSTART:20230326T030000
TZOFFSETFROM:+0100
TZOFFSETTO:+0200
TZNAME:CEST
END:DAYLIGHT
END:VTIMEZONE
END:VCALENDAR