BEGIN:VCALENDAR
VERSION:2.0
PRODID:-//wp-events-plugin.com//7.2.3//EN
TZID:Europe/Madrid
X-WR-TIMEZONE:Europe/Madrid
BEGIN:VEVENT
UID:2941@elshostaletsdepierola.cat
DTSTART;TZID=Europe/Madrid:20260413T090000
DTEND;TZID=Europe/Madrid:20260413T100000
DTSTAMP:20260401T072643Z
URL:https://elshostaletsdepierola.cat/events/caminades-saludables/
SUMMARY:Caminades saludables
DESCRIPTION:Cada dilluns i divendres.
ATTACH;FMTTYPE=image/jpeg:https://elshostaletsdepierola.cat/wp-content/upl
 oads/2026/04/gg13ab.png
CATEGORIES:Esdeveniments,Gent Gran
LOCATION:Plaça Cal Figueres\, Davant l'Ajuntament\, Els Hostalets de Piero
 la\, Espanya
X-APPLE-STRUCTURED-LOCATION;VALUE=URI;X-ADDRESS=Davant l'Ajuntament\, Els H
 ostalets de Pierola\, Espanya;X-APPLE-RADIUS=100;X-TITLE=Plaça Cal Figuer
 es:geo:0,0
END:VEVENT
BEGIN:VTIMEZONE
TZID:Europe/Madrid
X-LIC-LOCATION:Europe/Madrid
BEGIN:DAYLIGHT
DTSTART:20260329T030000
TZOFFSETFROM:+0100
TZOFFSETTO:+0200
TZNAME:CEST
END:DAYLIGHT
END:VTIMEZONE
END:VCALENDAR