BEGIN:VCALENDAR
VERSION:2.0
PRODID:-//wp-events-plugin.com//7.2.3//EN
TZID:Europe/Madrid
X-WR-TIMEZONE:Europe/Madrid
BEGIN:VEVENT
UID:12@elshostaletsdepierola.cat
DTSTART:20151107T080000Z
DTEND:20151108T200000Z
DTSTAMP:20151103T075825Z
URL:https://elshostaletsdepierola.cat/events/campionat-despanya-denduro/
SUMMARY:Campionat d'Espanya d'Enduro
DESCRIPTION:
ATTACH;FMTTYPE=image/jpeg:https://elshostaletsdepierola.cat/wp-content/upl
 oads/2015/10/enduro_2015.jpg
CATEGORIES:Esdeveniments
LOCATION:Hostalets de Pierola\, Plaça Cal Figueres\, Els Hostalets de Pier
 ola\, Barcelona\, 08784\, Espanya
GEO:41.5340289;1.770080499999949
X-APPLE-STRUCTURED-LOCATION;VALUE=URI;X-ADDRESS=Plaça Cal Figueres\, Els H
 ostalets de Pierola\, Barcelona\, 08784\, Espanya;X-APPLE-RADIUS=100;X-TIT
 LE=Hostalets de Pierola:geo:41.5340289,1.770080499999949
END:VEVENT
END:VCALENDAR