BEGIN:VCALENDAR
VERSION:2.0
PRODID:-//wp-events-plugin.com//7.2.3//EN
TZID:Europe/Madrid
X-WR-TIMEZONE:Europe/Madrid
BEGIN:VEVENT
UID:2255@elshostaletsdepierola.cat
DTSTART;TZID=Europe/Madrid:20231027T183000
DTEND;TZID=Europe/Madrid:20231027T183000
DTSTAMP:20231021T065138Z
URL:https://elshostaletsdepierola.cat/events/casal-de-la-gent-gran-berenar
 /
SUMMARY:Casal de la Gent Gran. Berenar
DESCRIPTION:Berenar\, a càrrec de l'Associació de la Gent Gran dels Hosta
 lets de Pierola.\n\nPreu: Socis 6 €\; No socis 8 €\n\nMés informació
 :\n\nAjuntament 937712112 / Silvestre Rubio: 636838526
ATTACH;FMTTYPE=image/jpeg:https://elshostaletsdepierola.cat/wp-content/upl
 oads/2023/10/gentgran.png
CATEGORIES:Esdeveniments,Gent Gran
END:VEVENT
BEGIN:VTIMEZONE
TZID:Europe/Madrid
X-LIC-LOCATION:Europe/Madrid
BEGIN:DAYLIGHT
DTSTART:20230326T030000
TZOFFSETFROM:+0100
TZOFFSETTO:+0200
TZNAME:CEST
END:DAYLIGHT
END:VTIMEZONE
END:VCALENDAR