BEGIN:VCALENDAR
VERSION:2.0
PRODID:-//wp-events-plugin.com//7.2.3//EN
TZID:Europe/Madrid
X-WR-TIMEZONE:Europe/Madrid
BEGIN:VEVENT
UID:1446@elshostaletsdepierola.cat
DTSTART:20211222T230000Z
DTEND:20220105T220000Z
DTSTAMP:20211203T102909Z
URL:https://elshostaletsdepierola.cat/events/casal-nadal-futbol/
SUMMARY:Casal Nadal futbol
DESCRIPTION:
ATTACH;FMTTYPE=image/jpeg:https://elshostaletsdepierola.cat/wp-content/upl
 oads/2021/12/img_3663-2.jpg
CATEGORIES:Esdeveniments,Festes,Tradicions
END:VEVENT
END:VCALENDAR