BEGIN:VCALENDAR
VERSION:2.0
PRODID:-//wp-events-plugin.com//7.2.3//EN
TZID:Europe/Madrid
X-WR-TIMEZONE:Europe/Madrid
BEGIN:VEVENT
UID:198@elshostaletsdepierola.cat
DTSTART:20161028T090000Z
DTEND:20161101T090000Z
DTSTAMP:20161027T151241Z
URL:https://elshostaletsdepierola.cat/events/castanyada-tots-sants/
SUMMARY:28 octubre - 1 novembre. Castanyada i Tots Sants
DESCRIPTION:[google-drive-embed url="https://drive.google.com/a/elshostalet
 sdepierola.cat/file/d/0B8yJN10hLhQTUHU4NFdrRm1SVWM/preview?usp=drivesdk" t
 itle="castanyada_totsants_2016_v4_ok_web.pdf" icon="https://ssl.gstatic.co
 m/docs/doclist/images/icon_12_pdf_list.png" width="100%" height="400" styl
 e="embed"]
ATTACH;FMTTYPE=image/jpeg:https://elshostaletsdepierola.cat/wp-content/upl
 oads/2016/10/castanyada-i-tots-sants.jpg
CATEGORIES:Cultura,Esdeveniments,Joventut,newsletter
END:VEVENT
END:VCALENDAR