BEGIN:VCALENDAR
VERSION:2.0
PRODID:-//wp-events-plugin.com//7.2.3//EN
TZID:Europe/Madrid
X-WR-TIMEZONE:Europe/Madrid
BEGIN:VEVENT
UID:2347@elshostaletsdepierola.cat
DTSTART;TZID=Europe/Madrid:20240105T180000
DTEND;TZID=Europe/Madrid:20240105T180000
DTSTAMP:20231205T135658Z
URL:https://elshostaletsdepierola.cat/events/cavalcada-de-reis-2/
SUMMARY:Cavalcada de Reis
DESCRIPTION:18.00 | Carrers del nucli\nArribada de SSMM per repartir il·lu
 sió i regals amb parada final i recepció a les carpes situades a la pla
 ça Cal Figueres.
CATEGORIES:Esdeveniments,Festes
END:VEVENT
BEGIN:VTIMEZONE
TZID:Europe/Madrid
X-LIC-LOCATION:Europe/Madrid
BEGIN:STANDARD
DTSTART:20231029T020000
TZOFFSETFROM:+0200
TZOFFSETTO:+0100
TZNAME:CET
END:STANDARD
END:VTIMEZONE
END:VCALENDAR