BEGIN:VCALENDAR
VERSION:2.0
PRODID:-//wp-events-plugin.com//7.2.3//EN
TZID:Europe/Madrid
X-WR-TIMEZONE:Europe/Madrid
BEGIN:VEVENT
UID:2642@elshostaletsdepierola.cat
DTSTART;TZID=Europe/Madrid:20250105T180000
DTEND;TZID=Europe/Madrid:20250105T200000
DTSTAMP:20241228T164452Z
URL:https://elshostaletsdepierola.cat/events/cavalcada-de-reis-3/
SUMMARY:Cavalcada de Reis
DESCRIPTION:Arribada pels carrers principals del nucli amb parada a la pla
 ça Cal Figueres. En cas de pluja o vent es traslladarà a la carpa de la 
 pista poliesportiva.
ATTACH;FMTTYPE=image/jpeg:https://elshostaletsdepierola.cat/wp-content/upl
 oads/2024/12/nadal24img-1.png
CATEGORIES:Esdeveniments,Festes
LOCATION:Diferent carrers del nucli.\, Carrers\, Els Hostalets de Pierola\,
  Espanya
X-APPLE-STRUCTURED-LOCATION;VALUE=URI;X-ADDRESS=Carrers\, Els Hostalets de 
 Pierola\, Espanya;X-APPLE-RADIUS=100;X-TITLE=Diferent carrers del nucli.:g
 eo:0,0
END:VEVENT
BEGIN:VTIMEZONE
TZID:Europe/Madrid
X-LIC-LOCATION:Europe/Madrid
BEGIN:STANDARD
DTSTART:20241027T020000
TZOFFSETFROM:+0200
TZOFFSETTO:+0100
TZNAME:CET
END:STANDARD
END:VTIMEZONE
END:VCALENDAR