BEGIN:VCALENDAR
VERSION:2.0
PRODID:-//wp-events-plugin.com//7.2.3//EN
TZID:Europe/Madrid
X-WR-TIMEZONE:Europe/Madrid
BEGIN:VEVENT
UID:49@elshostaletsdepierola.cat
DTSTART;VALUE=DATE:20160205
DTEND;VALUE=DATE:20160206
DTSTAMP:20160126T111707Z
URL:https://elshostaletsdepierola.cat/events/centres-escolars-carnestoltes
 /
SUMMARY:Centres escolars: Carnestoltes
DESCRIPTION:
CATEGORIES:Cultura,Esdeveniments,newsletter
END:VEVENT
END:VCALENDAR