BEGIN:VCALENDAR
VERSION:2.0
PRODID:-//wp-events-plugin.com//7.2.3//EN
TZID:Europe/Madrid
X-WR-TIMEZONE:Europe/Madrid
BEGIN:VEVENT
UID:2583@elshostaletsdepierola.cat
DTSTART;TZID=Europe/Madrid:20241111T170000
DTEND;TZID=Europe/Madrid:20241111T170000
DTSTAMP:20241028T064811Z
URL:https://elshostaletsdepierola.cat/events/cinema-en-clau-25n/
SUMMARY:Cinema en clau 25N
DESCRIPTION:Dilluns 11 de novembre | 17.00h Punt Jove
ATTACH;FMTTYPE=image/jpeg:https://elshostaletsdepierola.cat/wp-content/upl
 oads/2024/10/cine.jpg
CATEGORIES:Esdeveniments,Joventut
END:VEVENT
BEGIN:VTIMEZONE
TZID:Europe/Madrid
X-LIC-LOCATION:Europe/Madrid
BEGIN:STANDARD
DTSTART:20241027T020000
TZOFFSETFROM:+0200
TZOFFSETTO:+0100
TZNAME:CET
END:STANDARD
END:VTIMEZONE
END:VCALENDAR