BEGIN:VCALENDAR
VERSION:2.0
PRODID:-//wp-events-plugin.com//7.2.3//EN
TZID:Europe/Madrid
X-WR-TIMEZONE:Europe/Madrid
BEGIN:VEVENT
UID:23@elshostaletsdepierola.cat
DTSTART:20151212T180000Z
DTEND:20151212T200000Z
DTSTAMP:20151126T115646Z
URL:https://elshostaletsdepierola.cat/events/cinema-familiar-home-llar-dol
 ca-llar/
SUMMARY:Cinema familiar: Home: llar\, dolça llar
DESCRIPTION:
ATTACH;FMTTYPE=image/jpeg:https://elshostaletsdepierola.cat/wp-content/upl
 oads/2015/09/cinema_tardor_2015.jpg
CATEGORIES:Esdeveniments
LOCATION:Auditori de Cal Figueres\, Plaça Cal Figueres 1\, Els Hostalets d
 e Pierola\, Espanya
GEO:41.5348287;1.7685406000000512
X-APPLE-STRUCTURED-LOCATION;VALUE=URI;X-ADDRESS=Plaça Cal Figueres 1\, Els
  Hostalets de Pierola\, Espanya;X-APPLE-RADIUS=100;X-TITLE=Auditori de Cal
  Figueres:geo:41.5348287,1.7685406000000512
END:VEVENT
END:VCALENDAR