BEGIN:VCALENDAR
VERSION:2.0
PRODID:-//wp-events-plugin.com//7.2.3//EN
TZID:Europe/Madrid
X-WR-TIMEZONE:Europe/Madrid
BEGIN:VEVENT
UID:2443@elshostaletsdepierola.cat
DTSTART;TZID=Europe/Madrid:20240327T180000
DTEND;TZID=Europe/Madrid:20240327T180000
DTSTAMP:20240325T212024Z
URL:https://elshostaletsdepierola.cat/events/cinema-familiar-lescola-dels-
 animals-magics-2-lorigen/
SUMMARY:Cinema familiar "L'Escola dels animals màgics 2: L'origen"
DESCRIPTION:\n\n\n\n\n\n18 h | Auditori Cal Figueres\n\nEntrada gratuïta.
 \n103 minuts de durada.\n\nEls alumnes de l’escola d’animals màgics v
 olen fer un musical per l’aniversari de l’escola. Anada està molt fel
 iç perquè se’l permet dirigir-la. Però els assajos són més que dif
 ícils. Sobretot perquè Helene assumeix el paper principal. No obstant\, 
 el veritable talent per al cant el té la tímida Anna-Lena\, que mai no g
 osaria ser el centre d’atenció ni posar en perill la seva amistat amb H
 elene. \n\nTristament per a ella\, encara que ho vulgui o no\, haurà de c
 ompetir\, no només per l’obra\, sinó també per Jo\, a qui Helene inte
 nta conquerir amb tota mena de trucs. Acaben els assaigs en un caos o la c
 lasse romandrà unida? I què pas-\nsa amb els forats estranys als terreny
 s de l’escola? Amb l’ajuda dels animals màgics\, els nens aprenen el 
 que realment impor- ta: el treball en equip.
CATEGORIES:Cultura,Esdeveniments
END:VEVENT
BEGIN:VTIMEZONE
TZID:Europe/Madrid
X-LIC-LOCATION:Europe/Madrid
BEGIN:STANDARD
DTSTART:20231029T020000
TZOFFSETFROM:+0200
TZOFFSETTO:+0100
TZNAME:CET
END:STANDARD
END:VTIMEZONE
END:VCALENDAR