BEGIN:VCALENDAR
VERSION:2.0
PRODID:-//wp-events-plugin.com//7.2.3//EN
TZID:Europe/Madrid
X-WR-TIMEZONE:Europe/Madrid
BEGIN:VEVENT
UID:160@elshostaletsdepierola.cat
DTSTART:20160825T220000Z
DTEND:20160825T233000Z
DTSTAMP:20160822T092047Z
URL:https://elshostaletsdepierola.cat/events/cinema-fresca-barcelona-nit-d
 hivern/
SUMMARY:25 d'agost. Cinema a la Fresca: Barcelona\, nit d'hivern
DESCRIPTION:
ATTACH;FMTTYPE=image/jpeg:https://elshostaletsdepierola.cat/wp-content/upl
 oads/2016/07/barcelona-nit-dhvern.jpg
CATEGORIES:Cultura,Esdeveniments,newsletter
LOCATION:Poliesportiu dels Hostalets de Pierola\, Carrer Catalunya\, 10\, E
 ls Hostalets de Pierola\, Barcelona\, 08781\, Catalunya\, Espanya
GEO:41.5327279;1.7702384000000393
X-APPLE-STRUCTURED-LOCATION;VALUE=URI;X-ADDRESS=Carrer Catalunya\, 10\, Els
  Hostalets de Pierola\, Barcelona\, 08781\, Catalunya\, Espanya;X-APPLE-RA
 DIUS=100;X-TITLE=Poliesportiu dels Hostalets de Pierola:geo:41.5327279,1.7
 702384000000393
END:VEVENT
END:VCALENDAR