BEGIN:VCALENDAR
VERSION:2.0
PRODID:-//wp-events-plugin.com//7.2.3//EN
TZID:Europe/Madrid
X-WR-TIMEZONE:Europe/Madrid
BEGIN:VEVENT
UID:157@elshostaletsdepierola.cat
DTSTART:20160804T220000Z
DTEND:20160804T235900Z
DTSTAMP:20160729T100433Z
URL:https://elshostaletsdepierola.cat/events/cinema-fresca-pregon/
SUMMARY:4 d'agost. Cinema a la Fresca: El Pregón
DESCRIPTION:
CATEGORIES:Cultura,Esdeveniments,newsletter,Turisme
LOCATION:Poliesportiu dels Hostalets de Pierola\, Carrer Catalunya\, 10\, E
 ls Hostalets de Pierola\, Barcelona\, 08781\, Catalunya\, Espanya
GEO:41.5327279;1.7702384000000393
X-APPLE-STRUCTURED-LOCATION;VALUE=URI;X-ADDRESS=Carrer Catalunya\, 10\, Els
  Hostalets de Pierola\, Barcelona\, 08781\, Catalunya\, Espanya;X-APPLE-RA
 DIUS=100;X-TITLE=Poliesportiu dels Hostalets de Pierola:geo:41.5327279,1.7
 702384000000393
END:VEVENT
END:VCALENDAR