BEGIN:VCALENDAR
VERSION:2.0
PRODID:-//wp-events-plugin.com//7.2.3//EN
TZID:Europe/Madrid
X-WR-TIMEZONE:Europe/Madrid
BEGIN:VEVENT
UID:1414@elshostaletsdepierola.cat
DTSTART:20211120T161500Z
DTEND:20211120T173000Z
DTSTAMP:20211118T092420Z
URL:https://elshostaletsdepierola.cat/events/cinema-spirit-indomable/
SUMMARY:Cinema: «Spirit indomable»
DESCRIPTION:
ATTACH;FMTTYPE=image/jpeg:https://elshostaletsdepierola.cat/wp-content/upl
 oads/2021/11/spirit2011.png
CATEGORIES:Cultura,Esdeveniments,newsletter
LOCATION:Auditori Cal Figueres\, Poliesportiu Municipal\, Hostalets de Pier
 ola\, Espanya
GEO:41.534829;1.768541
X-APPLE-STRUCTURED-LOCATION;VALUE=URI;X-ADDRESS=Poliesportiu Municipal\, Ho
 stalets de Pierola\, Espanya;X-APPLE-RADIUS=100;X-TITLE=Auditori Cal Figue
 res:geo:41.534829,1.768541
END:VEVENT
END:VCALENDAR