BEGIN:VCALENDAR
VERSION:2.0
PRODID:-//wp-events-plugin.com//7.2.3//EN
TZID:Europe/Madrid
X-WR-TIMEZONE:Europe/Madrid
BEGIN:VEVENT
UID:2617@elshostaletsdepierola.cat
DTSTART;TZID=Europe/Madrid:20241214T183000
DTEND;TZID=Europe/Madrid:20241214T200000
DTSTAMP:20241212T123521Z
URL:https://elshostaletsdepierola.cat/events/cinexic-4/
SUMMARY:Cinexic
DESCRIPTION:Projecció de la pel·lícula 'La fada de les estacions' i tres
  curtmetratges. Recomanada a partir de 4 anys amb entrada a 2€.
ATTACH;FMTTYPE=image/jpeg:https://elshostaletsdepierola.cat/wp-content/upl
 oads/2024/12/cnxdes24.png
CATEGORIES:Cultura,Esdeveniments
LOCATION:Auditori Cal Figueres\, Plaça Cal Figueres 1\, Hostalets de Piero
 la\, Espanya
X-APPLE-STRUCTURED-LOCATION;VALUE=URI;X-ADDRESS=Plaça Cal Figueres 1\, Hos
 talets de Pierola\, Espanya;X-APPLE-RADIUS=100;X-TITLE=Auditori Cal Figuer
 es:geo:0,0
END:VEVENT
BEGIN:VTIMEZONE
TZID:Europe/Madrid
X-LIC-LOCATION:Europe/Madrid
BEGIN:STANDARD
DTSTART:20241027T020000
TZOFFSETFROM:+0200
TZOFFSETTO:+0100
TZNAME:CET
END:STANDARD
END:VTIMEZONE
END:VCALENDAR