BEGIN:VCALENDAR
VERSION:2.0
PRODID:-//wp-events-plugin.com//7.2.3//EN
TZID:Europe/Madrid
X-WR-TIMEZONE:Europe/Madrid
BEGIN:VEVENT
UID:2658@elshostaletsdepierola.cat
DTSTART;TZID=Europe/Madrid:20250215T180000
DTEND;TZID=Europe/Madrid:20250215T191500
DTSTAMP:20250126T175835Z
URL:https://elshostaletsdepierola.cat/events/cinexic-6/
SUMMARY:CineXic
DESCRIPTION:[embed]https://www.youtube.com/watch?v=eTrv6fE2f8k[/embed]
ATTACH;FMTTYPE=image/jpeg:https://elshostaletsdepierola.cat/wp-content/upl
 oads/2025/01/vainilla.png
CATEGORIES:Cultura,Esdeveniments
LOCATION:Auditori Cal Figueres\, Plaça Cal Figueres 1\, Hostalets de Piero
 la\, Espanya
X-APPLE-STRUCTURED-LOCATION;VALUE=URI;X-ADDRESS=Plaça Cal Figueres 1\, Hos
 talets de Pierola\, Espanya;X-APPLE-RADIUS=100;X-TITLE=Auditori Cal Figuer
 es:geo:0,0
END:VEVENT
BEGIN:VTIMEZONE
TZID:Europe/Madrid
X-LIC-LOCATION:Europe/Madrid
BEGIN:STANDARD
DTSTART:20241027T020000
TZOFFSETFROM:+0200
TZOFFSETTO:+0100
TZNAME:CET
END:STANDARD
END:VTIMEZONE
END:VCALENDAR