BEGIN:VCALENDAR
VERSION:2.0
PRODID:-//wp-events-plugin.com//7.2.3//EN
TZID:Europe/Madrid
X-WR-TIMEZONE:Europe/Madrid
BEGIN:VEVENT
UID:2364@elshostaletsdepierola.cat
DTSTART;TZID=Europe/Madrid:20240127T183000
DTEND;TZID=Europe/Madrid:20240127T193000
DTSTAMP:20240123T184132Z
URL:https://elshostaletsdepierola.cat/events/cinexic-ratolins-i-guineus/
SUMMARY:CineXic: Ratolins i guineus
DESCRIPTION:Dissabte 27 de gener 18.30\nAuditori Cal Figueres\nRecomanada a
  partir dels 5 anys. Entrada 2€\nVeure tràiler\n\nPrimera sessió del 2
 024 del cicle de cinema infantil en català CineXic amb la projecció de 
 la pel·lícula d’animació Ratolins i Guineus.
ATTACH;FMTTYPE=image/jpeg:https://elshostaletsdepierola.cat/wp-content/upl
 oads/2024/01/hostalets-xxss-ratolins-i-guineus.png
CATEGORIES:Cultura,Esdeveniments
LOCATION:Auditori Cal Figueres\, Plaça Cal Figueres 1\, Hostalets de Piero
 la\, Espanya
X-APPLE-STRUCTURED-LOCATION;VALUE=URI;X-ADDRESS=Plaça Cal Figueres 1\, Hos
 talets de Pierola\, Espanya;X-APPLE-RADIUS=100;X-TITLE=Auditori Cal Figuer
 es:geo:0,0
END:VEVENT
BEGIN:VTIMEZONE
TZID:Europe/Madrid
X-LIC-LOCATION:Europe/Madrid
BEGIN:STANDARD
DTSTART:20231029T020000
TZOFFSETFROM:+0200
TZOFFSETTO:+0100
TZNAME:CET
END:STANDARD
END:VTIMEZONE
END:VCALENDAR