BEGIN:VCALENDAR
VERSION:2.0
PRODID:-//wp-events-plugin.com//7.2.3//EN
TZID:Europe/Madrid
X-WR-TIMEZONE:Europe/Madrid
BEGIN:VEVENT
UID:1553@elshostaletsdepierola.cat
DTSTART:20220327T080000Z
DTEND:20220327T100000Z
DTSTAMP:20220324T133735Z
URL:https://elshostaletsdepierola.cat/events/clean-up-nucli/
SUMMARY:Clean up (nucli)
DESCRIPTION:Apunta-t'hi prement aquí.
ATTACH;FMTTYPE=image/jpeg:https://elshostaletsdepierola.cat/wp-content/upl
 oads/2022/03/cleanup27322b.png
CATEGORIES:Esdeveniments,Medi Ambient,newsletter
LOCATION:Plaça Cal Figueres\, Davant l'Ajuntament\, Els Hostalets de Piero
 la\, Espanya
X-APPLE-STRUCTURED-LOCATION;VALUE=URI;X-ADDRESS=Davant l'Ajuntament\, Els H
 ostalets de Pierola\, Espanya;X-APPLE-RADIUS=100;X-TITLE=Plaça Cal Figuer
 es:geo:0,0
END:VEVENT
END:VCALENDAR