BEGIN:VCALENDAR
VERSION:2.0
PRODID:-//wp-events-plugin.com//7.2.3//EN
TZID:Europe/Madrid
X-WR-TIMEZONE:Europe/Madrid
BEGIN:VEVENT
UID:2576@elshostaletsdepierola.cat
DTSTART;TZID=Europe/Madrid:20241026T180000
DTEND;TZID=Europe/Madrid:20241026T180000
DTSTAMP:20241021T080218Z
URL:https://elshostaletsdepierola.cat/events/club-de-lectura-i-cinema-2/
SUMMARY:Club de Lectura i Cinema
DESCRIPTION:Dissabte 26 d'octubre 18.00h Cal Batista\n\nModerat per joan Mi
 llaret i Valls
ATTACH;FMTTYPE=image/jpeg:https://elshostaletsdepierola.cat/wp-content/upl
 oads/2024/10/240323-clublectura-sessio-octubre-v1-xxss.jpg
CATEGORIES:Cultura,Esdeveniments
END:VEVENT
BEGIN:VTIMEZONE
TZID:Europe/Madrid
X-LIC-LOCATION:Europe/Madrid
BEGIN:DAYLIGHT
DTSTART:20240331T030000
TZOFFSETFROM:+0100
TZOFFSETTO:+0200
TZNAME:CEST
END:DAYLIGHT
END:VTIMEZONE
END:VCALENDAR