BEGIN:VCALENDAR
VERSION:2.0
PRODID:-//wp-events-plugin.com//7.2.3//EN
TZID:Europe/Madrid
X-WR-TIMEZONE:Europe/Madrid
BEGIN:VEVENT
UID:142@elshostaletsdepierola.cat
DTSTART:20160709T190000Z
DTEND:20160709T213000Z
DTSTAMP:20160701T104950Z
URL:https://elshostaletsdepierola.cat/events/club-lectura-cinema-soroll-re
 s/
SUMMARY:9 de juliol. Club de Lectura i Cinema: Molt soroll per a res
DESCRIPTION:Nova trobada el Club de Lectura i Cinema el proper dissabte\, 9
  de juliol. En Joan Millaret realitzarà una sessió del club sobre la pel
 ·lícula “Molt soroll per a res” (1993\, de Kenneth Branagh)\, segons
  comèdia homònima de William Shakespeare.\n\nComençarà amb la projecci
 ó de la pel·lícula i posteriorment es realitzarà un fòrum d’opinió
 \, on s’analitzarà la pel·lícula en comparació amb l’obra literàr
 ia.
ATTACH;FMTTYPE=image/jpeg:https://elshostaletsdepierola.cat/wp-content/upl
 oads/2016/07/cartell-trobada-16-juliol-16.jpg
CATEGORIES:Cultura,Esdeveniments,newsletter
LOCATION:Torre del Sr. Enric\, Isidre Vallès s/n\, Els Hostalets de Pierol
 a\, Catalunya\, 808781\, Espanya
GEO:41.5339344;1.769799599999942
X-APPLE-STRUCTURED-LOCATION;VALUE=URI;X-ADDRESS=Isidre Vallès s/n\, Els Ho
 stalets de Pierola\, Catalunya\, 808781\, Espanya;X-APPLE-RADIUS=100;X-TIT
 LE=Torre del Sr. Enric:geo:41.5339344,1.769799599999942
END:VEVENT
END:VCALENDAR