BEGIN:VCALENDAR
VERSION:2.0
PRODID:-//wp-events-plugin.com//7.2.3//EN
TZID:Europe/Madrid
X-WR-TIMEZONE:Europe/Madrid
BEGIN:VEVENT
UID:2399@elshostaletsdepierola.cat
DTSTART;TZID=Europe/Madrid:20240323T180000
DTEND;TZID=Europe/Madrid:20240323T180000
DTSTAMP:20240321T171901Z
URL:https://elshostaletsdepierola.cat/events/clublectura24/
SUMMARY:Club de lectura i cinema
DESCRIPTION:Passi de la pel·lícula "The Quiet Girl" i col·loqui dinamitz
 at per Joan Millaret Valls\nDissabte 23 de març 18h\nCal Batista (accés 
 per c/ Que no passa)\n\nMés informació www.hostalets.cat/clc324
ATTACH;FMTTYPE=image/jpeg:https://elshostaletsdepierola.cat/wp-content/upl
 oads/2024/03/clc.png
CATEGORIES:Cultura,Esdeveniments
END:VEVENT
BEGIN:VTIMEZONE
TZID:Europe/Madrid
X-LIC-LOCATION:Europe/Madrid
BEGIN:STANDARD
DTSTART:20231029T020000
TZOFFSETFROM:+0200
TZOFFSETTO:+0100
TZNAME:CET
END:STANDARD
END:VTIMEZONE
END:VCALENDAR