BEGIN:VCALENDAR
VERSION:2.0
PRODID:-//wp-events-plugin.com//7.2.3//EN
TZID:Europe/Madrid
X-WR-TIMEZONE:Europe/Madrid
BEGIN:VEVENT
UID:1587@elshostaletsdepierola.cat
DTSTART:20220410T210000Z
DTEND:20220410T225900Z
DTSTAMP:20220410T062240Z
URL:https://elshostaletsdepierola.cat/events/comanda-llibres-ultim-dia/
SUMMARY:Comanda llibres (últim dia)
DESCRIPTION:https://elshostaletsdepierola.cat/llibres-22/
CATEGORIES:Cultura,Esdeveniments,Festes,newsletter,Tradicions
LOCATION:Espai de Cultura Cal Batista\, Carrer Major\, 1\, Els Hostalets de
  Pierola\, Espanya
GEO:41.385059;1.9314653000000135
X-APPLE-STRUCTURED-LOCATION;VALUE=URI;X-ADDRESS=Carrer Major\, 1\, Els Host
 alets de Pierola\, Espanya;X-APPLE-RADIUS=100;X-TITLE=Espai de Cultura Cal
  Batista:geo:41.385059,1.9314653000000135
END:VEVENT
END:VCALENDAR