BEGIN:VCALENDAR
VERSION:2.0
PRODID:-//wp-events-plugin.com//7.2.3//EN
TZID:Europe/Madrid
X-WR-TIMEZONE:Europe/Madrid
BEGIN:VEVENT
UID:2356@elshostaletsdepierola.cat
DTSTART;TZID=Europe/Madrid:20240110T173000
DTEND;TZID=Europe/Madrid:20240110T173000
DTSTAMP:20240107T182710Z
URL:https://elshostaletsdepierola.cat/events/comissio-jove-25/
SUMMARY:Comissió Jove
DESCRIPTION:Dimecres 10 de gener al Punt Jove
ATTACH;FMTTYPE=image/jpeg:https://elshostaletsdepierola.cat/wp-content/upl
 oads/2023/12/comissio.png
CATEGORIES:Esdeveniments,Joventut,newsletter
END:VEVENT
BEGIN:VTIMEZONE
TZID:Europe/Madrid
X-LIC-LOCATION:Europe/Madrid
BEGIN:STANDARD
DTSTART:20231029T020000
TZOFFSETFROM:+0200
TZOFFSETTO:+0100
TZNAME:CET
END:STANDARD
END:VTIMEZONE
END:VCALENDAR