BEGIN:VCALENDAR
VERSION:2.0
PRODID:-//wp-events-plugin.com//7.2.3//EN
TZID:Europe/Madrid
X-WR-TIMEZONE:Europe/Madrid
BEGIN:VEVENT
UID:2430@elshostaletsdepierola.cat
DTSTART;TZID=Europe/Madrid:20240403T173000
DTEND;TZID=Europe/Madrid:20240403T173000
DTSTAMP:20240331T165454Z
URL:https://elshostaletsdepierola.cat/events/comissio-jove-27/
SUMMARY:Comissió Jove
DESCRIPTION:Punt Jove dels Hostalets de Pierola | 17.30h
ATTACH;FMTTYPE=image/jpeg:https://elshostaletsdepierola.cat/wp-content/upl
 oads/2024/03/jove4.jpeg
CATEGORIES:Esdeveniments,Joventut
END:VEVENT
BEGIN:VTIMEZONE
TZID:Europe/Madrid
X-LIC-LOCATION:Europe/Madrid
BEGIN:DAYLIGHT
DTSTART:20240331T030000
TZOFFSETFROM:+0100
TZOFFSETTO:+0200
TZNAME:CEST
END:DAYLIGHT
END:VTIMEZONE
END:VCALENDAR