BEGIN:VCALENDAR
VERSION:2.0
PRODID:-//wp-events-plugin.com//7.2.3//EN
TZID:Europe/Madrid
X-WR-TIMEZONE:Europe/Madrid
BEGIN:VEVENT
UID:253@elshostaletsdepierola.cat
DTSTART:20170212T180000Z
DTEND:20170212T200000Z
DTSTAMP:20170206T131048Z
URL:https://elshostaletsdepierola.cat/events/concert-amics-musica-cor-gran
 ollers/
SUMMARY:12 febrer. Concert Amics de la Música: Cor de Cambra de Granollers
DESCRIPTION:L'Auditori de Cal Figueres acollirà el proper diumenge\, 12 de
  febrer a les 18h el concert del Cor de Cambra de Granollers\, dirigit pel
  director Josep Vila i Jover.\n\n[google-drive-embed url="https://drive.go
 ogle.com/a/elshostaletsdepierola.cat/file/d/0B8yJN10hLhQTMnRKSjJIWENkNkU/p
 review?usp=drivesdk" title="109_cor _cambra_granollers_12_2_17_prog.pdf" i
 con="https://ssl.gstatic.com/docs/doclist/images/icon_12_pdf_list.png" wid
 th="100%" height="400" style="embed"]
ATTACH;FMTTYPE=image/jpeg:https://elshostaletsdepierola.cat/wp-content/upl
 oads/2017/02/109_cor_cambra_granollers_12_2_17.png
CATEGORIES:Cultura,Esdeveniments,newsletter
LOCATION:Auditori de Cal Figueres\, Plaça Cal Figueres 1\, Hostalets de Pi
 erola\, Espanya
GEO:41.5348287;1.7685406000000512
X-APPLE-STRUCTURED-LOCATION;VALUE=URI;X-ADDRESS=Plaça Cal Figueres 1\, Hos
 talets de Pierola\, Espanya;X-APPLE-RADIUS=100;X-TITLE=Auditori de Cal Fig
 ueres:geo:41.5348287,1.7685406000000512
END:VEVENT
END:VCALENDAR