BEGIN:VCALENDAR
VERSION:2.0
PRODID:-//wp-events-plugin.com//7.2.3//EN
TZID:Europe/Madrid
X-WR-TIMEZONE:Europe/Madrid
BEGIN:VEVENT
UID:2130@elshostaletsdepierola.cat
DTSTART;TZID=Europe/Madrid:20230716T130000
DTEND;TZID=Europe/Madrid:20230716T160000
DTSTAMP:20230713T031235Z
URL:https://elshostaletsdepierola.cat/events/concert-i-paella/
SUMMARY:Concert i paella
DESCRIPTION:
ATTACH;FMTTYPE=image/jpeg:https://elshostaletsdepierola.cat/wp-content/upl
 oads/2023/07/concertpaella23.png
CATEGORIES:Cultura,Esdeveniments,Estiu,newsletter
LOCATION:Darrere la Torre Sr Enric\, Parc Cal Ponsa\, Els Hostalets de Pier
 ola\, Espanya
X-APPLE-STRUCTURED-LOCATION;VALUE=URI;X-ADDRESS=Parc Cal Ponsa\, Els Hostal
 ets de Pierola\, Espanya;X-APPLE-RADIUS=100;X-TITLE=Darrere la Torre Sr En
 ric:geo:0,0
END:VEVENT
BEGIN:VTIMEZONE
TZID:Europe/Madrid
X-LIC-LOCATION:Europe/Madrid
BEGIN:DAYLIGHT
DTSTART:20230326T030000
TZOFFSETFROM:+0100
TZOFFSETTO:+0200
TZNAME:CEST
END:DAYLIGHT
END:VTIMEZONE
END:VCALENDAR