BEGIN:VCALENDAR
VERSION:2.0
PRODID:-//wp-events-plugin.com//7.2.3//EN
TZID:Europe/Madrid
X-WR-TIMEZONE:Europe/Madrid
BEGIN:VEVENT
UID:1586@elshostaletsdepierola.cat
DTSTART:20220417T210000Z
DTEND:20220417T223000Z
DTSTAMP:20220401T075036Z
URL:https://elshostaletsdepierola.cat/events/concurs-literari-ultim-dia/
SUMMARY:Concurs literari (últim dia)
DESCRIPTION:
ATTACH;FMTTYPE=image/jpeg:https://elshostaletsdepierola.cat/wp-content/upl
 oads/2022/04/img_6079.jpg
CATEGORIES:Cultura,Esdeveniments,Festes,Tradicions
END:VEVENT
END:VCALENDAR