BEGIN:VCALENDAR
VERSION:2.0
PRODID:-//wp-events-plugin.com//7.2.3//EN
TZID:Europe/Madrid
X-WR-TIMEZONE:Europe/Madrid
BEGIN:VEVENT
UID:28@elshostaletsdepierola.cat
DTSTART:20151218T180000Z
DTEND:20151218T190000Z
DTSTAMP:20151228T111547Z
URL:https://elshostaletsdepierola.cat/events/contes-nadal-mama-padrina/
SUMMARY:Contes de Nadal amb "La Mama i la Padrina"
DESCRIPTION:
CATEGORIES:Esdeveniments
LOCATION:Biblio@ccés\, Anselm Clavé\, 6\, Els Hostalets de Pierola\, Espa
 nya
GEO:41.53285;1.7733405000000175
X-APPLE-STRUCTURED-LOCATION;VALUE=URI;X-ADDRESS=Anselm Clavé\, 6\, Els Hos
 talets de Pierola\, Espanya;X-APPLE-RADIUS=100;X-TITLE=Biblio@ccés:geo:41
 .53285,1.7733405000000175
END:VEVENT
END:VCALENDAR