BEGIN:VCALENDAR
VERSION:2.0
PRODID:-//wp-events-plugin.com//7.2.3//EN
TZID:Europe/Madrid
X-WR-TIMEZONE:Europe/Madrid
BEGIN:VEVENT
UID:2368@elshostaletsdepierola.cat
DTSTART;TZID=Europe/Madrid:20240203T101500
DTEND;TZID=Europe/Madrid:20240203T133000
DTSTAMP:20240129T093845Z
URL:https://elshostaletsdepierola.cat/events/cros24/
SUMMARY:Cros Comarcal de l'Anoia
DESCRIPTION:Cros Comarcal de l'Anoia. 15è Cros Escolar. 20a Cursa Popular 
 dels Hostalets de Pierola. 72ns Jocs Esportius Escolars de l'Anoia.\nDissa
 bte 3 de febrer\, de 10:15 a 13:30h\nParc del Camp de la Serra\n\n 	Inscri
 pcions\n 	Més informació\n\nAfectacions a la mobilitat\nDurant el desenv
 olupament de la prova esportiva es tallaran els següents carrers:\n\n\n 	
 c/ Narcís Monturiol amb c/ Joan Garcia\n 	c/ del Progrés amb c/ Indústr
 ia\n 	Camí de sorra des de c/ Narcís Monturiol fins al cementiri\n
ATTACH;FMTTYPE=image/jpeg:https://elshostaletsdepierola.cat/wp-content/upl
 oads/2024/01/cros.png
CATEGORIES:Esdeveniments,Esport
END:VEVENT
BEGIN:VTIMEZONE
TZID:Europe/Madrid
X-LIC-LOCATION:Europe/Madrid
BEGIN:STANDARD
DTSTART:20231029T020000
TZOFFSETFROM:+0200
TZOFFSETTO:+0100
TZNAME:CET
END:STANDARD
END:VTIMEZONE
END:VCALENDAR