BEGIN:VCALENDAR
VERSION:2.0
PRODID:-//wp-events-plugin.com//7.2.3//EN
TZID:Europe/Madrid
X-WR-TIMEZONE:Europe/Madrid
BEGIN:VEVENT
UID:2015@elshostaletsdepierola.cat
DTSTART;TZID=Europe/Madrid:20230403T180000
DTEND;TZID=Europe/Madrid:20230403T200000
DTSTAMP:20230329T223438Z
URL:https://elshostaletsdepierola.cat/events/curs-aerotermia/
SUMMARY:Curs Aerotèrmia
DESCRIPTION:
ATTACH;FMTTYPE=image/jpeg:https://elshostaletsdepierola.cat/wp-content/upl
 oads/2023/03/cursgas23.png
CATEGORIES:Esdeveniments,Medi Ambient,newsletter
LOCATION:Torre del Senyor Enric\, Isidre Vallés\, 1\, Els Hostalets de Pie
 rola\, Spain\, 808781\, Espanya
GEO:41.5339863;1.7696766000000252
X-APPLE-STRUCTURED-LOCATION;VALUE=URI;X-ADDRESS=Isidre Vallés\, 1\, Els Ho
 stalets de Pierola\, Spain\, 808781\, Espanya;X-APPLE-RADIUS=100;X-TITLE=T
 orre del Senyor Enric:geo:41.5339863,1.7696766000000252
END:VEVENT
BEGIN:VTIMEZONE
TZID:Europe/Madrid
X-LIC-LOCATION:Europe/Madrid
BEGIN:DAYLIGHT
DTSTART:20230326T030000
TZOFFSETFROM:+0100
TZOFFSETTO:+0200
TZNAME:CEST
END:DAYLIGHT
END:VTIMEZONE
END:VCALENDAR