BEGIN:VCALENDAR
VERSION:2.0
PRODID:-//wp-events-plugin.com//7.2.3//EN
TZID:Europe/Madrid
X-WR-TIMEZONE:Europe/Madrid
BEGIN:VEVENT
UID:68@elshostaletsdepierola.cat
DTSTART:20160308T203000Z
DTEND:20160308T223000Z
DTSTAMP:20160301T140734Z
URL:https://elshostaletsdepierola.cat/events/dia-internacional-de-les-done
 s-2/
SUMMARY:Dia Internacional de les Dones
DESCRIPTION:Dimarts\, 8 de març:\n\n20.30h. Projecció de la pel·lícula 
 Les Sufragistes.                                      
             Estrena sobre la lluita de les primeres dones per acon
 seguir el dret a votar. Breu presentació i comentari a càrrec de Joan Mi
 llaret.\n\n
CATEGORIES:Cultura,Esdeveniments,newsletter
LOCATION:Auditori de Cal Figueres\, Plaça Cal Figueres 1\, Hostalets de Pi
 erola\, Espanya
GEO:41.5348287;1.7685406000000512
X-APPLE-STRUCTURED-LOCATION;VALUE=URI;X-ADDRESS=Plaça Cal Figueres 1\, Hos
 talets de Pierola\, Espanya;X-APPLE-RADIUS=100;X-TITLE=Auditori de Cal Fig
 ueres:geo:41.5348287,1.7685406000000512
END:VEVENT
END:VCALENDAR