BEGIN:VCALENDAR
VERSION:2.0
PRODID:-//wp-events-plugin.com//7.2.3//EN
TZID:Europe/Madrid
X-WR-TIMEZONE:Europe/Madrid
BEGIN:VEVENT
UID:2620@elshostaletsdepierola.cat
DTSTART;TZID=Europe/Madrid:20241215T130000
DTEND;TZID=Europe/Madrid:20241215T150000
DTSTAMP:20241208T222404Z
URL:https://elshostaletsdepierola.cat/events/dinar-solidari/
SUMMARY:Dinar solidari
DESCRIPTION:Proposta de Junts amb els restauradors locals on s'ofereix un m
 enú tancat amb un donatiu de 2€ per la Marató. Més informació i vend
 a de tiquets a 'La Barberia' (c. Església\, 1) del 9 al 12 de desembre de
  17.00 a 18.00 hores.
ATTACH;FMTTYPE=image/jpeg:https://elshostaletsdepierola.cat/wp-content/upl
 oads/2024/12/nadal24img-1.png
CATEGORIES:Esdeveniments,Festes
END:VEVENT
BEGIN:VTIMEZONE
TZID:Europe/Madrid
X-LIC-LOCATION:Europe/Madrid
BEGIN:STANDARD
DTSTART:20241027T020000
TZOFFSETFROM:+0200
TZOFFSETTO:+0100
TZNAME:CET
END:STANDARD
END:VTIMEZONE
END:VCALENDAR