BEGIN:VCALENDAR
VERSION:2.0
PRODID:-//wp-events-plugin.com//7.2.3//EN
TZID:Europe/Madrid
X-WR-TIMEZONE:Europe/Madrid
BEGIN:VEVENT
UID:2013@elshostaletsdepierola.cat
DTSTART;TZID=Europe/Madrid:20230428T173000
DTEND;TZID=Europe/Madrid:20230428T203000
DTSTAMP:20230426T092959Z
URL:https://elshostaletsdepierola.cat/events/divendres-de-berenar-5/
SUMMARY:Divendres de berenar
DESCRIPTION:
ATTACH;FMTTYPE=image/jpeg:https://elshostaletsdepierola.cat/wp-content/upl
 oads/2023/03/aefea75f-5c05-40ae-8709-70b8541c9857.jpeg
CATEGORIES:Esdeveniments,Joventut,newsletter
END:VEVENT
BEGIN:VTIMEZONE
TZID:Europe/Madrid
X-LIC-LOCATION:Europe/Madrid
BEGIN:DAYLIGHT
DTSTART:20230326T030000
TZOFFSETFROM:+0100
TZOFFSETTO:+0200
TZNAME:CEST
END:DAYLIGHT
END:VTIMEZONE
END:VCALENDAR