BEGIN:VCALENDAR
VERSION:2.0
PRODID:-//wp-events-plugin.com//7.2.3//EN
TZID:Europe/Madrid
X-WR-TIMEZONE:Europe/Madrid
BEGIN:VEVENT
UID:2436@elshostaletsdepierola.cat
DTSTART;TZID=Europe/Madrid;VALUE=DATE:20240329
DTEND;TZID=Europe/Madrid;VALUE=DATE:20240330
DTSTAMP:20240324T074642Z
URL:https://elshostaletsdepierola.cat/events/divendres-sant/
SUMMARY:Divendres Sant
DESCRIPTION:Església de Sant Pere\n9 h | OFICI DE LECTURA I LAUDES\n12.30 
 h | CELEBRACIÓ DIVENDRES SANT\n20 h | VIA CRUCIS
CATEGORIES:Esdeveniments
LOCATION:Església de Sant Pere\, Carrer de l'Església\, 18\, Els Hostalet
 s de Pierola\, Spain\, 08781\, Espanya
GEO:41.8162788;2.2353897000000416
X-APPLE-STRUCTURED-LOCATION;VALUE=URI;X-ADDRESS=Carrer de l'Església\, 18\
 , Els Hostalets de Pierola\, Spain\, 08781\, Espanya;X-APPLE-RADIUS=100;X-
 TITLE=Església de Sant Pere:geo:41.8162788,2.2353897000000416
END:VEVENT
BEGIN:VTIMEZONE
TZID:Europe/Madrid
X-LIC-LOCATION:Europe/Madrid
BEGIN:STANDARD
DTSTART:20231029T020000
TZOFFSETFROM:+0200
TZOFFSETTO:+0100
TZNAME:CET
END:STANDARD
END:VTIMEZONE
END:VCALENDAR