BEGIN:VCALENDAR
VERSION:2.0
PRODID:-//wp-events-plugin.com//7.2.3//EN
TZID:Europe/Madrid
X-WR-TIMEZONE:Europe/Madrid
BEGIN:VEVENT
UID:2388@elshostaletsdepierola.cat
DTSTART;TZID=Europe/Madrid:20240225T170000
DTEND;TZID=Europe/Madrid:20240225T200000
DTSTAMP:20240222T163958Z
URL:https://elshostaletsdepierola.cat/events/dona-joc-4/
SUMMARY:Dona joc
DESCRIPTION:Diumenge 25 de febrer 17.00\nTorre del Sr Enric\nTots els públ
 ics. Entrada lliure.\n\nNova jornada per gaudir d'una tarda de jocs de rol
  a la Torre del Sr Enric dels Hostalets de Pierola.
ATTACH;FMTTYPE=image/jpeg:https://elshostaletsdepierola.cat/wp-content/upl
 oads/2024/01/joctaulell.jpg
CATEGORIES:Entitats,Esdeveniments,newsletter
LOCATION:Torre del Sr. Enric\, Isidre Vallès s/n\, Els Hostalets de Pierol
 a\, Catalunya\, 808781\, Espanya
GEO:41.5339344;1.769799599999942
X-APPLE-STRUCTURED-LOCATION;VALUE=URI;X-ADDRESS=Isidre Vallès s/n\, Els Ho
 stalets de Pierola\, Catalunya\, 808781\, Espanya;X-APPLE-RADIUS=100;X-TIT
 LE=Torre del Sr. Enric:geo:41.5339344,1.769799599999942
END:VEVENT
BEGIN:VTIMEZONE
TZID:Europe/Madrid
X-LIC-LOCATION:Europe/Madrid
BEGIN:STANDARD
DTSTART:20231029T020000
TZOFFSETFROM:+0200
TZOFFSETTO:+0100
TZNAME:CET
END:STANDARD
END:VTIMEZONE
END:VCALENDAR