BEGIN:VCALENDAR
VERSION:2.0
PRODID:-//wp-events-plugin.com//7.2.3//EN
TZID:Europe/Madrid
X-WR-TIMEZONE:Europe/Madrid
BEGIN:VEVENT
UID:2405@elshostaletsdepierola.cat
DTSTART;TZID=Europe/Madrid:20240331T170000
DTEND;TZID=Europe/Madrid:20240331T200000
DTSTAMP:20240308T132318Z
URL:https://elshostaletsdepierola.cat/events/dona-joc-5/
SUMMARY:Dona joc
DESCRIPTION:Diumenge 31 de març\nTorre del Sr. Enric\nDe 17 a 20h\n\nTroba
 da de jocs de taula\, obert a tothom i de totes les edats. Organitza La Co
 munitat del Taulell
ATTACH;FMTTYPE=image/jpeg:https://elshostaletsdepierola.cat/wp-content/upl
 oads/2024/03/donajoc.png
CATEGORIES:Entitats,Esdeveniments
END:VEVENT
BEGIN:VTIMEZONE
TZID:Europe/Madrid
X-LIC-LOCATION:Europe/Madrid
BEGIN:DAYLIGHT
DTSTART:20240331T030000
TZOFFSETFROM:+0100
TZOFFSETTO:+0200
TZNAME:CEST
END:DAYLIGHT
END:VTIMEZONE
END:VCALENDAR