BEGIN:VCALENDAR
VERSION:2.0
PRODID:-//wp-events-plugin.com//7.2.3//EN
TZID:Europe/Madrid
X-WR-TIMEZONE:Europe/Madrid
BEGIN:VEVENT
UID:2490@elshostaletsdepierola.cat
DTSTART;TZID=Europe/Madrid:20240526T170000
DTEND;TZID=Europe/Madrid:20240526T200000
DTSTAMP:20240522T132043Z
URL:https://elshostaletsdepierola.cat/events/dona-joc-trobada-de-jocs-de-t
 aula/
SUMMARY:Dona joc - Trobada de Jocs de Taula
DESCRIPTION:Diumenge 26 de maig | Torre del Sr. Enric de 17 a 20h
ATTACH;FMTTYPE=image/jpeg:https://elshostaletsdepierola.cat/wp-content/upl
 oads/2024/05/donajoc.png
CATEGORIES:Esdeveniments
LOCATION:Torre del Sr. Enric\, Isidre Vallès s/n\, Els Hostalets de Pierol
 a\, Catalunya\, 808781\, Espanya
GEO:41.5339344;1.769799599999942
X-APPLE-STRUCTURED-LOCATION;VALUE=URI;X-ADDRESS=Isidre Vallès s/n\, Els Ho
 stalets de Pierola\, Catalunya\, 808781\, Espanya;X-APPLE-RADIUS=100;X-TIT
 LE=Torre del Sr. Enric:geo:41.5339344,1.769799599999942
END:VEVENT
BEGIN:VTIMEZONE
TZID:Europe/Madrid
X-LIC-LOCATION:Europe/Madrid
BEGIN:DAYLIGHT
DTSTART:20240331T030000
TZOFFSETFROM:+0100
TZOFFSETTO:+0200
TZNAME:CEST
END:DAYLIGHT
END:VTIMEZONE
END:VCALENDAR