BEGIN:VCALENDAR
VERSION:2.0
PRODID:-//wp-events-plugin.com//7.2.3//EN
TZID:Europe/Madrid
X-WR-TIMEZONE:Europe/Madrid
BEGIN:VEVENT
UID:2641@elshostaletsdepierola.cat
DTSTART;TZID=Europe/Madrid:20250104T210000
DTEND;TZID=Europe/Madrid:20250104T230000
DTSTAMP:20241228T164121Z
URL:https://elshostaletsdepierola.cat/events/encarrecs-ssmm/
SUMMARY:Encàrrecs SSMM
DESCRIPTION:Lliurament de paquets per repartir al llarg de la cavalcada de 
 la nit de Reis. Únic dia per fer donatius.
ATTACH;FMTTYPE=image/jpeg:https://elshostaletsdepierola.cat/wp-content/upl
 oads/2024/12/nadal24img-1.png
CATEGORIES:Esdeveniments,Festes
LOCATION:Gimnàs de l'IE Renaixença\, C. Església 82\, Els Hostalets de P
 ierola\, Espanya
X-APPLE-STRUCTURED-LOCATION;VALUE=URI;X-ADDRESS=C. Església 82\, Els Hosta
 lets de Pierola\, Espanya;X-APPLE-RADIUS=100;X-TITLE=Gimnàs de l'IE Renai
 xença:geo:0,0
END:VEVENT
BEGIN:VTIMEZONE
TZID:Europe/Madrid
X-LIC-LOCATION:Europe/Madrid
BEGIN:STANDARD
DTSTART:20241027T020000
TZOFFSETFROM:+0200
TZOFFSETTO:+0100
TZNAME:CET
END:STANDARD
END:VTIMEZONE
END:VCALENDAR