BEGIN:VCALENDAR
VERSION:2.0
PRODID:-//wp-events-plugin.com//7.2.3//EN
TZID:Europe/Madrid
X-WR-TIMEZONE:Europe/Madrid
BEGIN:VEVENT
UID:130@elshostaletsdepierola.cat
DTSTART:20160610T173000Z
DTEND:20160610T190000Z
DTSTAMP:20160608T154600Z
URL:https://elshostaletsdepierola.cat/events/espai-joc-psicomotricitat/
SUMMARY:10 de juny. Espai de joc i psicomotricitat
DESCRIPTION:Nova sessió de l'Espai de Joc i Psicomotricitat a la llar d'in
 fants "La Granota".
ATTACH;FMTTYPE=image/jpeg:https://elshostaletsdepierola.cat/wp-content/upl
 oads/2016/06/psicomotricitat.jpg
CATEGORIES:Esdeveniments,newsletter
LOCATION:Llar Infants La Granota\, Ronda de Ponent S/N\, Els Hostalets de P
 ierola\, Espanya
GEO:41.5364801;1.770646700000043
X-APPLE-STRUCTURED-LOCATION;VALUE=URI;X-ADDRESS=Ronda de Ponent S/N\, Els H
 ostalets de Pierola\, Espanya;X-APPLE-RADIUS=100;X-TITLE=Llar Infants La G
 ranota:geo:41.5364801,1.770646700000043
END:VEVENT
END:VCALENDAR