BEGIN:VCALENDAR
VERSION:2.0
PRODID:-//wp-events-plugin.com//7.2.3//EN
TZID:Europe/Madrid
X-WR-TIMEZONE:Europe/Madrid
BEGIN:VEVENT
UID:2329@elshostaletsdepierola.cat
DTSTART;TZID=Europe/Madrid:20231222T180000
DTEND;TZID=Europe/Madrid:20231222T180000
DTSTAMP:20231218T090351Z
URL:https://elshostaletsdepierola.cat/events/exposicio-de-pessebres/
SUMMARY:Exposició de Pessebres
DESCRIPTION:18.00 | Espai Tradicions\nInauguració de la mostra de diferent
 s escenes distribuïdes en quatre taules en una exposició de diorames pes
 sebristes organitzat per l’Agrupació de Balls Populars i l’àrea de T
 radicions.
CATEGORIES:Cultura,Esdeveniments
LOCATION:tradicions\, Espai Tradicions\, Els Hostalets de Pierola\, Catalun
 ya\, 808781\, Espanya
X-APPLE-STRUCTURED-LOCATION;VALUE=URI;X-ADDRESS=Espai Tradicions\, Els Host
 alets de Pierola\, Catalunya\, 808781\, Espanya;X-APPLE-RADIUS=100;X-TITLE
 =tradicions:geo:0,0
END:VEVENT
BEGIN:VTIMEZONE
TZID:Europe/Madrid
X-LIC-LOCATION:Europe/Madrid
BEGIN:STANDARD
DTSTART:20231029T020000
TZOFFSETFROM:+0200
TZOFFSETTO:+0100
TZNAME:CET
END:STANDARD
END:VTIMEZONE
END:VCALENDAR