BEGIN:VCALENDAR
VERSION:2.0
PRODID:-//wp-events-plugin.com//7.2.3//EN
TZID:Europe/Madrid
X-WR-TIMEZONE:Europe/Madrid
BEGIN:VEVENT
UID:1800@elshostaletsdepierola.cat
DTSTART;TZID=Europe/Madrid:20221024T180000
DTEND;TZID=Europe/Madrid:20221024T193000
DTSTAMP:20221020T101812Z
URL:https://elshostaletsdepierola.cat/events/facturaelectrica/
SUMMARY:La factura elèctrica
DESCRIPTION:Cafè tertúlia amb refrigeri saludable a càrrec de Manel Rive
 ro.\n\nDilluns 24 d'octubre a les 18.00 al Casal d'Avis.\n\n
ATTACH;FMTTYPE=image/jpeg:https://elshostaletsdepierola.cat/wp-content/upl
 oads/2022/10/factura.jpg
CATEGORIES:Esdeveniments,Gent Gran,newsletter
LOCATION:Casal d'avis\, Plaça Cal Figueres 1\, Hostalets de Pierola\, Espa
 nya
GEO:41.5348287;1.7685406000000512
X-APPLE-STRUCTURED-LOCATION;VALUE=URI;X-ADDRESS=Plaça Cal Figueres 1\, Hos
 talets de Pierola\, Espanya;X-APPLE-RADIUS=100;X-TITLE=Casal d'avis:geo:41
 .5348287,1.7685406000000512
END:VEVENT
BEGIN:VTIMEZONE
TZID:Europe/Madrid
X-LIC-LOCATION:Europe/Madrid
BEGIN:DAYLIGHT
DTSTART:20220327T030000
TZOFFSETFROM:+0100
TZOFFSETTO:+0200
TZNAME:CEST
END:DAYLIGHT
END:VTIMEZONE
END:VCALENDAR