BEGIN:VCALENDAR
VERSION:2.0
PRODID:-//wp-events-plugin.com//7.2.3//EN
TZID:Europe/Madrid
X-WR-TIMEZONE:Europe/Madrid
BEGIN:VEVENT
UID:2573@elshostaletsdepierola.cat
DTSTART;TZID=Europe/Madrid:20241111T180000
DTEND;TZID=Europe/Madrid:20241111T180000
DTSTAMP:20241029T064253Z
URL:https://elshostaletsdepierola.cat/events/farmaciola24/
SUMMARY:Cafè tertúlia: Farmaciola bàsica a casa
DESCRIPTION:CANVI DE DATA\n\nDilluns 11 DE NOVEMBRE | 18.00h Casal de la Ge
 nt Gran\n\nFarmaciola bàsica a casa: desar i conservar els medicaments. A
  càrrec de la farmacèutica de l'EAP de Piera/SAP Anoia
ATTACH;FMTTYPE=image/jpeg:https://elshostaletsdepierola.cat/wp-content/upl
 oads/2024/10/farmaciola.jpg
CATEGORIES:Esdeveniments,Gent Gran,Salut
LOCATION:Casal de la Gent Gran\, Plaça de Cal Figueres\, 1\, Els Hostalets
  de Pierola\, Catalunya\, 808781\, Espanya
GEO:41.5348287;1.7685406000000512
X-APPLE-STRUCTURED-LOCATION;VALUE=URI;X-ADDRESS=Plaça de Cal Figueres\, 1\
 , Els Hostalets de Pierola\, Catalunya\, 808781\, Espanya;X-APPLE-RADIUS=1
 00;X-TITLE=Casal de la Gent Gran:geo:41.5348287,1.7685406000000512
END:VEVENT
BEGIN:VTIMEZONE
TZID:Europe/Madrid
X-LIC-LOCATION:Europe/Madrid
BEGIN:STANDARD
DTSTART:20241027T020000
TZOFFSETFROM:+0200
TZOFFSETTO:+0100
TZNAME:CET
END:STANDARD
END:VTIMEZONE
END:VCALENDAR