BEGIN:VCALENDAR
VERSION:2.0
PRODID:-//wp-events-plugin.com//7.2.3//EN
TZID:Europe/Madrid
X-WR-TIMEZONE:Europe/Madrid
BEGIN:VEVENT
UID:2729@elshostaletsdepierola.cat
DTSTART;TZID=Europe/Madrid:20250524T100000
DTEND;TZID=Europe/Madrid:20250524T140000
DTSTAMP:20250518T215111Z
URL:https://elshostaletsdepierola.cat/events/festa-de-la-inclusio-2/
SUMMARY:Festa de la Inclusió
DESCRIPTION:
ATTACH;FMTTYPE=image/jpeg:https://elshostaletsdepierola.cat/wp-content/upl
 oads/2025/05/festainclusio.png
CATEGORIES:Acció social,Esdeveniments
LOCATION:Diferent carrers del nucli.\, Carrers\, Els Hostalets de Pierola\,
  Espanya
X-APPLE-STRUCTURED-LOCATION;VALUE=URI;X-ADDRESS=Carrers\, Els Hostalets de 
 Pierola\, Espanya;X-APPLE-RADIUS=100;X-TITLE=Diferent carrers del nucli.:g
 eo:0,0
END:VEVENT
BEGIN:VTIMEZONE
TZID:Europe/Madrid
X-LIC-LOCATION:Europe/Madrid
BEGIN:DAYLIGHT
DTSTART:20250330T030000
TZOFFSETFROM:+0100
TZOFFSETTO:+0200
TZNAME:CEST
END:DAYLIGHT
END:VTIMEZONE
END:VCALENDAR