BEGIN:VCALENDAR
VERSION:2.0
PRODID:-//wp-events-plugin.com//7.2.3//EN
TZID:Europe/Madrid
X-WR-TIMEZONE:Europe/Madrid
BEGIN:VEVENT
UID:2535@elshostaletsdepierola.cat
DTSTART;TZID=Europe/Madrid:20240803T200000
DTEND;TZID=Europe/Madrid:20240803T200000
DTSTAMP:20240729T172235Z
URL:https://elshostaletsdepierola.cat/events/festa-de-la-parroquia/
SUMMARY:Festa de la parròquia
DESCRIPTION:Església de Sant Pere | 20.00h\n\nCelebració de l'Eucaristia 
 i Sopar de germanor. Porta els teus coberts i el got. Preu tiquet: 8 € a
 ls establiments del municipi.\n\n&nbsp\;
CATEGORIES:Esdeveniments,Festes
LOCATION:Església de Sant Pere\, carrer de l'Església\, 18\, Els Hostalet
 s de Pierola\, Spain\, 08781\, Espanya
GEO:41.8162788;2.2353897000000416
X-APPLE-STRUCTURED-LOCATION;VALUE=URI;X-ADDRESS=carrer de l'Església\, 18\
 , Els Hostalets de Pierola\, Spain\, 08781\, Espanya;X-APPLE-RADIUS=100;X-
 TITLE=Església de Sant Pere:geo:41.8162788,2.2353897000000416
END:VEVENT
BEGIN:VTIMEZONE
TZID:Europe/Madrid
X-LIC-LOCATION:Europe/Madrid
BEGIN:DAYLIGHT
DTSTART:20240331T030000
TZOFFSETFROM:+0100
TZOFFSETTO:+0200
TZNAME:CEST
END:DAYLIGHT
END:VTIMEZONE
END:VCALENDAR