BEGIN:VCALENDAR
VERSION:2.0
PRODID:-//wp-events-plugin.com//7.2.3//EN
TZID:Europe/Madrid
X-WR-TIMEZONE:Europe/Madrid
BEGIN:VEVENT
UID:2731@elshostaletsdepierola.cat
DTSTART;TZID=Europe/Madrid:20250531T110000
DTEND;TZID=Europe/Madrid:20250531T170000
DTSTAMP:20250521T160208Z
URL:https://elshostaletsdepierola.cat/events/festa-pifies/
SUMMARY:Festa Pífies
DESCRIPTION:
ATTACH;FMTTYPE=image/jpeg:https://elshostaletsdepierola.cat/wp-content/upl
 oads/2025/05/festapifies.jpg
CATEGORIES:Entitats,Esdeveniments,Joventut
LOCATION:Plaça Eladi Conde\, Plaça Eladi Conde\, Els Hostalets de Pierola
 \, Espanya
GEO:41.5369908;1.7658020000000079
X-APPLE-STRUCTURED-LOCATION;VALUE=URI;X-ADDRESS=Plaça Eladi Conde\, Els Ho
 stalets de Pierola\, Espanya;X-APPLE-RADIUS=100;X-TITLE=Plaça Eladi Conde
 :geo:41.5369908,1.7658020000000079
END:VEVENT
BEGIN:VTIMEZONE
TZID:Europe/Madrid
X-LIC-LOCATION:Europe/Madrid
BEGIN:DAYLIGHT
DTSTART:20250330T030000
TZOFFSETFROM:+0100
TZOFFSETTO:+0200
TZNAME:CEST
END:DAYLIGHT
END:VTIMEZONE
END:VCALENDAR