BEGIN:VCALENDAR
VERSION:2.0
PRODID:-//wp-events-plugin.com//7.2.3//EN
TZID:Europe/Madrid
X-WR-TIMEZONE:Europe/Madrid
BEGIN:VEVENT
UID:2530@elshostaletsdepierola.cat
DTSTART;TZID=Europe/Madrid;VALUE=DATE:20240724
DTEND;TZID=Europe/Madrid;VALUE=DATE:20240725
DTSTAMP:20240716T135501Z
URL:https://elshostaletsdepierola.cat/events/festamajor241/
SUMMARY:Festa Major
DESCRIPTION:\n 	18h Vesteix-te per la Festa Major | Plaça Dr. Conde\n 	20h
  Pregó de Festa Major a càrrec del grup de teatre Talia 2.0 | Torre del 
 Sr. Enric\nActuació de lluïment amb balls populars i versots | Plaça Dr
 . Conde\nSopar de Carmanyola i bingo popular | Plaça Dr. Conde\n 	23:55 C
 oncert d'inici de Festa Major a càrrec de Pelat i Pelut | Passatge Anselm
  Clavé\n\nTota la programació a www.hostalets.cat/festamajor24 
ATTACH;FMTTYPE=image/jpeg:https://elshostaletsdepierola.cat/wp-content/upl
 oads/2024/07/captura-de-pantalla-2024-07-16-a-les-153616.png
CATEGORIES:Esdeveniments,Festes
END:VEVENT
BEGIN:VTIMEZONE
TZID:Europe/Madrid
X-LIC-LOCATION:Europe/Madrid
BEGIN:DAYLIGHT
DTSTART:20240331T030000
TZOFFSETFROM:+0100
TZOFFSETTO:+0200
TZNAME:CEST
END:DAYLIGHT
END:VTIMEZONE
END:VCALENDAR