BEGIN:VCALENDAR
VERSION:2.0
PRODID:-//wp-events-plugin.com//7.2.3//EN
TZID:Europe/Madrid
X-WR-TIMEZONE:Europe/Madrid
BEGIN:VEVENT
UID:1842@elshostaletsdepierola.cat
DTSTART;TZID=Europe/Madrid:20221203T100000
DTEND;TZID=Europe/Madrid:20221203T200000
DTSTAMP:20221201T135356Z
URL:https://elshostaletsdepierola.cat/events/fira-dartesania-pauissima/
SUMMARY:Fira d'artesania (Pauíssima)
DESCRIPTION:
ATTACH;FMTTYPE=image/jpeg:https://elshostaletsdepierola.cat/wp-content/upl
 oads/2022/11/img_2333.jpg
CATEGORIES:Cultura,Esdeveniments,Festes,newsletter
LOCATION:Carrer Isidre Vallés\, Carrer Isidre Vallés\, Els Hostalets de P
 ierola\, Barcelona\, 08781\, Catalunya\, Espanya
GEO:41.5337134;1.7702752999999802
X-APPLE-STRUCTURED-LOCATION;VALUE=URI;X-ADDRESS=Carrer Isidre Vallés\, Els
  Hostalets de Pierola\, Barcelona\, 08781\, Catalunya\, Espanya;X-APPLE-RA
 DIUS=100;X-TITLE=Carrer Isidre Vallés:geo:41.5337134,1.7702752999999802
END:VEVENT
BEGIN:VTIMEZONE
TZID:Europe/Madrid
X-LIC-LOCATION:Europe/Madrid
BEGIN:STANDARD
DTSTART:20221030T020000
TZOFFSETFROM:+0200
TZOFFSETTO:+0100
TZNAME:CET
END:STANDARD
END:VTIMEZONE
END:VCALENDAR