BEGIN:VCALENDAR
VERSION:2.0
PRODID:-//wp-events-plugin.com//7.2.3//EN
TZID:Europe/Madrid
X-WR-TIMEZONE:Europe/Madrid
BEGIN:VEVENT
UID:2623@elshostaletsdepierola.cat
DTSTART;TZID=Europe/Madrid:20241216T090000
DTEND;TZID=Europe/Madrid:20241217T140000
DTSTAMP:20241209T205528Z
URL:https://elshostaletsdepierola.cat/events/forma-part-dels-reis/
SUMMARY:Forma part comitiva Reis
DESCRIPTION:Si ets major de 16 anys\, anima’t i participa en l’organitz
 ació d’un dels\nactes més populars i especials del Nadal. Dilluns i di
 marts de 9.00 a 14.00 a recepció de l'Ajuntament.
ATTACH;FMTTYPE=image/jpeg:https://elshostaletsdepierola.cat/wp-content/upl
 oads/2024/12/nadal24img-1.png
CATEGORIES:Esdeveniments,Festes
LOCATION:Ajuntament dels Hostalets de Pierola\, Plaça Cal Figueres 1\, Hos
 talets de Pierola\, Espanya
GEO:41.5348287;1.7685406000000512
X-APPLE-STRUCTURED-LOCATION;VALUE=URI;X-ADDRESS=Plaça Cal Figueres 1\, Hos
 talets de Pierola\, Espanya;X-APPLE-RADIUS=100;X-TITLE=Ajuntament dels Hos
 talets de Pierola:geo:41.5348287,1.7685406000000512
END:VEVENT
BEGIN:VTIMEZONE
TZID:Europe/Madrid
X-LIC-LOCATION:Europe/Madrid
BEGIN:STANDARD
DTSTART:20241027T020000
TZOFFSETFROM:+0200
TZOFFSETTO:+0100
TZNAME:CET
END:STANDARD
END:VTIMEZONE
END:VCALENDAR